BEGIN:VCALENDAR
VERSION:2.0
PRODID:-//Collaboration Station - ECPv6.15.20//NONSGML v1.0//EN
CALSCALE:GREGORIAN
METHOD:PUBLISH
X-ORIGINAL-URL:https://collaborationstationny.com
X-WR-CALDESC:Events for Collaboration Station
REFRESH-INTERVAL;VALUE=DURATION:PT1H
X-Robots-Tag:noindex
X-PUBLISHED-TTL:PT1H
BEGIN:VTIMEZONE
TZID:America/Halifax
BEGIN:DAYLIGHT
TZOFFSETFROM:-0400
TZOFFSETTO:-0300
TZNAME:ADT
DTSTART:20250309T060000
END:DAYLIGHT
BEGIN:STANDARD
TZOFFSETFROM:-0300
TZOFFSETTO:-0400
TZNAME:AST
DTSTART:20251102T050000
END:STANDARD
BEGIN:DAYLIGHT
TZOFFSETFROM:-0400
TZOFFSETTO:-0300
TZNAME:ADT
DTSTART:20260308T060000
END:DAYLIGHT
BEGIN:STANDARD
TZOFFSETFROM:-0300
TZOFFSETTO:-0400
TZNAME:AST
DTSTART:20261101T050000
END:STANDARD
BEGIN:DAYLIGHT
TZOFFSETFROM:-0400
TZOFFSETTO:-0300
TZNAME:ADT
DTSTART:20270314T060000
END:DAYLIGHT
BEGIN:STANDARD
TZOFFSETFROM:-0300
TZOFFSETTO:-0400
TZNAME:AST
DTSTART:20271107T050000
END:STANDARD
END:VTIMEZONE
BEGIN:VEVENT
DTSTART;TZID=America/Halifax:20260130T183000
DTEND;TZID=America/Halifax:20260130T203000
DTSTAMP:20260421T094732
CREATED:20260421T134143Z
LAST-MODIFIED:20260421T134143Z
UID:10000144-1769797800-1769805000@collaborationstationny.com
SUMMARY:90s Karaoke Night
DESCRIPTION:Get your Glow on at The Station!\n 
URL:https://collaborationstationny.com/event/90s-karaoke-night-2/
LOCATION:Collaboration Station\, 1194 Oakfield Avenue\, Wantagh\, NY\, 11793
CATEGORIES:Music,Social Events
ATTACH;FMTTYPE=image/jpeg:https://collaborationstationny.com/wp-content/uploads/2024/04/qtq80-GVziPb-scaled.jpeg
ORGANIZER;CN="Collaboration Station":MAILTO:collaborationstationny@gmail.com
END:VEVENT
END:VCALENDAR